BEGIN:VCALENDAR
VERSION:2.0
METHOD:PUBLISH
BEGIN:VEVENT
DTSTART:20260520T200000Z
DTEND:20260520T213000Z
LOCATION:Venue
UID:20260419T124705Z@mysite.com
DTSTAMP:20260419T124705Z
SUMMARY:Cody Firearms Museum and Winchester Records Archives Vault Tour
DESCRIPTION:For details, visit https://tickets.centerofthewest.org/Selection.aspx?sch=140616
PRIORITY:5
CLASS:PUBLIC
END:VEVENT
END:VCALENDAR