BEGIN:VCALENDAR
VERSION:2.0
METHOD:PUBLISH
BEGIN:VEVENT
DTSTART:20260910T200000Z
DTEND:20260910T213000Z
LOCATION:Venue
UID:20260419T130535Z@mysite.com
DTSTAMP:20260419T130535Z
SUMMARY:Cody Firearms Museum and Winchester Records Archives Vault Tour
DESCRIPTION:For details, visit https://tickets.centerofthewest.org/Selection.aspx?sch=140681
PRIORITY:5
CLASS:PUBLIC
END:VEVENT
END:VCALENDAR